BEGIN:VCALENDAR
VERSION:2.0
PRODID:-//St Gregory&#039;s Church Marnhull - ECPv6.15.20//NONSGML v1.0//EN
CALSCALE:GREGORIAN
METHOD:PUBLISH
X-WR-CALNAME:St Gregory&#039;s Church Marnhull
X-ORIGINAL-URL:https://www.stgregorysmarnhull.org.uk
X-WR-CALDESC:Events for St Gregory&#039;s Church Marnhull
REFRESH-INTERVAL;VALUE=DURATION:PT1H
X-Robots-Tag:noindex
X-PUBLISHED-TTL:PT1H
BEGIN:VTIMEZONE
TZID:UTC
BEGIN:STANDARD
TZOFFSETFROM:+0000
TZOFFSETTO:+0000
TZNAME:UTC
DTSTART:20190101T000000
END:STANDARD
END:VTIMEZONE
BEGIN:VEVENT
DTSTART;TZID=UTC:20200831T140000
DTEND;TZID=UTC:20200831T170000
DTSTAMP:20260421T195920
CREATED:20200805T183049Z
LAST-MODIFIED:20200809T133443Z
UID:9522-1598882400-1598893200@www.stgregorysmarnhull.org.uk
SUMMARY:St Gregory's Safari Fête
DESCRIPTION:The event starts at St Gregory’s church yard.  You can follow the treasure hunt\, get your plants\, place a bid in the silent auction\, buy a raffle ticket and most important buy your map to find out the other stalls spread out across the village.  Head off to the school yard to buy some books\, drop by at the cake stall\, visit the art exhibition at Church Cottages or down Phillips Road.  Explore further to look at another book stall in Sodom Lane and off to Love Lane/Burton Street for afternoon tea.  What’s not to like? \nTeas are being held by Eleanor Woodhouse\, Simmi Johnson\, Pat Budden\, Helen Butler\, Kate Locke\, Ros Eveleigh\, Miriam Gaston\, George and Diana Stephens\, and Gaenor Hockey.  To book your place at one of these teas\, contact Chris Langhelt. \nIf you want to enter the Scarecrow Competition download the form here and send it to Ros Eveleigh\, Weaver’s House\, Burton Street with your £1 entry fee.
URL:https://www.stgregorysmarnhull.org.uk/event/st-gregorys-safari-fete/
LOCATION:St Gregory’s Church\, St Gregory's Church\, Marnhull\, Sturminster Newton\, DT10 1PZ\, United Kingdom
END:VEVENT
END:VCALENDAR